BEGIN:VCALENDAR
VERSION:2.0
PRODID:-//Wellness Designs - ECPv4.6.9//NONSGML v1.0//EN
CALSCALE:GREGORIAN
METHOD:PUBLISH
X-WR-CALNAME:Wellness Designs
X-ORIGINAL-URL:https://wellnessdesigns.com.au
X-WR-CALDESC:Events for Wellness Designs
BEGIN:VEVENT
DTSTART;TZID=Australia/Brisbane:20180306T080000
DTEND;TZID=Australia/Brisbane:20180307T170000
DTSTAMP:20180225T083833
CREATED:20170607T221542Z
LAST-MODIFIED:20171117T093600Z
UID:2506-1520323200-1520442000@wellnessdesigns.com.au
SUMMARY:Wellness Wise™ Practitioner – Brisbane
DESCRIPTION:The Wellness Wise™ Practitioner (WWP) training program is designed to educate\, empower & inspire individuals to develop a successful & sustainable health & wellness strategy in the workplace. The nationally accredited WWP program is proudly being launched in partnership with the peak industry body\, the Workplace Health Association of Australia. The program consists of an initial two-day intensive course\, followed by  a 12 month support program to help participants implement key learnings back in the workplace. Learn more. \nDownload Melbourne course venue information sheet here. \n
URL:https://wellnessdesigns.com.au/event/wellness-wise-practitioner-brisbane/
LOCATION:Level 17/179 Turbot Street\,\, Brisbane\, QLD\, 4000\, Australia
END:VEVENT
BEGIN:VEVENT
DTSTART;TZID=UTC+0:20180307T090000
DTEND;TZID=UTC+0:20180307T120000
DTSTAMP:20180225T083833
CREATED:20171129T071101Z
LAST-MODIFIED:20180215T034913Z
UID:3594-1520413200-1520424000@wellnessdesigns.com.au
SUMMARY:Hobart Workshop - The Wellness Edge: 6 Steps for Creating a Healthy and Thriving Workplace
DESCRIPTION:We get it. Creating an effective workplace health and wellness strategy isn’t necessarily easy. Plus\, real results take time. Most organisations don’t know where to start or even worse\, adopt a scattergun or ‘tick the box’ approach. A more strategic approach is needed. \nGlobal research shows that organisations that do invest in the health and wellness of their employees are: \n\n3.5 times more likely to encourage creativity and innovation\n8 times more likely to have engaged employees\n2.5 times more likely to have higher organisational performance\n\nThis session will outline: \n\nHow investing in employee wellness will give organisations a critical and leading edge for business success\nThe six step framework for creating a best-practice and sustainable health and wellness strategy.\nHow to educate and empower your key people to drive the strategy forward\n\nFacilitator: Rachel Moore \nCost: $295 + GST \nPurchase Tickets \n
URL:https://wellnessdesigns.com.au/event/hobart-workshop-wellness-edge-6-steps-creating-healthy-thriving-workplace/
LOCATION:64 Anglesea St\,\, South\, Hobart
END:VEVENT
BEGIN:VEVENT
DTSTART;TZID=Australia/Brisbane:20180313T100000
DTEND;TZID=Australia/Brisbane:20180313T110000
DTSTAMP:20180225T083833
CREATED:20171124T091351Z
LAST-MODIFIED:20180212T072042Z
UID:3558-1520935200-1520938800@wellnessdesigns.com.au
SUMMARY:Wellness Wise™ Webinar - 'Better mental health at work - the why\, what and how'
DESCRIPTION:Organisations today are “doing more with less” and implementing “lean principles”. Doing so whilst maintaining a productive and vibrant workforce is the key challenge and ultimate success. \nRelentless change and pressure in workplaces have resulted in employees reporting high levels of stress which negatively affects productivity. Leaders need to understand how to prevent\, recognise and appropriately respond to mental health issues in the workplace. \nIn this webinar Tasha Broomhall\, Director\, Blooming Minds will discuss evidence based strategies\, practical tools and the supports and resources available to help you: \n\nreduce stigma around mental health issues\nunderstand the rights and responsibilities of employer and employees\nunderstand the functional impact of common mental illnesses on individuals\nopen a conversation with someone you’re concerned about\ncreate a positive workplace culture.\n\n
URL:https://wellnessdesigns.com.au/event/wellness-wise-webinar-better-mental-health-work/
LOCATION:QLD
END:VEVENT
BEGIN:VEVENT
DTSTART;TZID=Australia/Sydney:20180320T083000
DTEND;TZID=Australia/Sydney:20180321T170000
DTSTAMP:20180225T083833
CREATED:20170607T180434Z
LAST-MODIFIED:20171213T063416Z
UID:2497-1521534600-1521651600@wellnessdesigns.com.au
SUMMARY:Wellness Wise™ Practitioner – Sydney
DESCRIPTION:The Wellness Wise™ Practitioner (WWP) training program is designed to educate\, empower & inspire individuals to develop a successful & sustainable health & wellness strategy in the workplace. The nationally accredited WWP program is proudly being launched in partnership with the peak industry body\, the Workplace Health Association of Australia. The program consists of an initial two-day intensive course\, followed by  a 12 month support program to help participants implement key learnings back in the workplace. Learn more. \nDownload Sydney course venue information sheet here. \n \n
URL:https://wellnessdesigns.com.au/event/wellness-wise-practitioner-sydney/
LOCATION:Level 14\, 255 George St.\, Sydney\, NSW\, 2000
END:VEVENT
BEGIN:VEVENT
DTSTART;TZID=Australia/Hobart:20180410T083000
DTEND;TZID=Australia/Hobart:20180411T170000
DTSTAMP:20180225T083833
CREATED:20170607T193056Z
LAST-MODIFIED:20171218T015931Z
UID:2503-1523349000-1523466000@wellnessdesigns.com.au
SUMMARY:Wellness Wise™ Practitioner – Hobart
DESCRIPTION:The Wellness Wise™ Practitioner (WWP) training program is designed to educate\, empower & inspire individuals to develop a successful & sustainable health & wellness strategy in the workplace. The nationally accredited WWP program is proudly being launched in partnership with the peak industry body\, the Workplace Health Association of Australia. The program consists of an initial two-day intensive course\, followed by  a 12 month support program to help participants implement key learnings back in the workplace. Learn more. \nDownload Hobart course venue information sheet here.\n \n
URL:https://wellnessdesigns.com.au/event/wellness-wise-practitioner-hobart/
LOCATION:RACT House 179 Murray Street\,\, Hobart\, Tasmania\, 7000\, Australia
END:VEVENT
BEGIN:VEVENT
DTSTART;TZID=UTC+0:20180426T080000
DTEND;TZID=UTC+0:20180427T170000
DTSTAMP:20180225T083833
CREATED:20180124T080934Z
LAST-MODIFIED:20180201T034431Z
UID:3630-1524729600-1524848400@wellnessdesigns.com.au
SUMMARY:Wellness Wise™ Practitioner - Melbourne
DESCRIPTION:The Wellness Wise™ Practitioner (WWP) training program is designed to educate\, empower and inspire individuals to develop a successful and sustainable health and wellness strategy in the workplace. The nationally accredited WWP program is proudly being launched in partnership with the peak industry body\, the Workplace Health Association of Australia. The program consists of an initial two-day intensive course\, followed by  a 12 month support program to help participants implement key learnings back in the workplace. Learn more. \nDownload Melbourne course venue information sheet here. \n \n
URL:https://wellnessdesigns.com.au/event/wellness-wise-practitioner-melbourne/
LOCATION:33 Exhibition Street\,\, Melbourne\, VIC\, 3000\, Australia
END:VEVENT
BEGIN:VEVENT
DTSTART;TZID=Australia/Melbourne:20180612T143000
DTEND;TZID=Australia/Melbourne:20180612T153000
DTSTAMP:20180225T083833
CREATED:20180216T050057Z
LAST-MODIFIED:20180216T112221Z
UID:3645-1528813800-1528817400@wellnessdesigns.com.au
SUMMARY:SIA Webinar - 'Beyond The Fluff: How To Create A Wellness Strategy That Impacts Your Bottom Line'
DESCRIPTION:Many organisations offer one-off health checks\, ad hoc chair massages\, occasional yoga classes and so on.  While the intentions are good\, the organisation probably won’t see any real or lasting impact to their bottom line. \nIn this webinar\, our Director Katrina Walton will outline the need to think strategically about health and wellness in the workplace so that it can be integrated into the very DNA of an organisation. \nThis will ensure the best possible: \n\nfinancial outcomes for the organisation’s bottom line\nwellness outcomes for employees\nprogram that will stand the test\n\nThis webinar is ideal for Human Resources\, Occupational Health and Safety and/ or Wellness practitioners in the organisation who are in the process of planning or revamping their wellness strategy. It will outline the key factors for ensuring that your wellness strategy hits the mark. \n
URL:https://wellnessdesigns.com.au/event/sia-webinar-beyond-fluff-create-wellness-strategy-impacts-bottom-line/
LOCATION:QLD
END:VEVENT
END:VCALENDAR